BEGIN:VCALENDAR
VERSION:2.0
PRODID:-//hacksw/handcal//NONSGML v1.0//EN
BEGIN:VEVENT
SUMMARY:Match a Panazol du 15 mars 2026
UID:d037599f-d5e4-4d6a-8088-4030e2e9a2b0
DTSTART:20260315T090000Z
DTEND:20260315T110000Z
LOCATION:Localisation   
CATEGORIES:Sportif
STATUS:
URL;VALUE=URI:https://shb.sportsregions.fr/evenements/2026/03/15/match-a-panazol-du-15-mars-2026-2434105
END:VEVENT
END:VCALENDAR
