BEGIN:VCALENDAR
VERSION:2.0
PRODID:-//hacksw/handcal//NONSGML v1.0//EN
BEGIN:VEVENT
SUMMARY:Belle victoire contre Velles du 10 avril 2026
UID:ca5de042-c8f9-4d6e-b1ba-f2b90425c24c
DTSTART:20260410T183000Z
DTEND:20260410T203000Z
LOCATION:Localisation   
CATEGORIES:Sportif
STATUS:
URL;VALUE=URI:https://shb.sportsregions.fr/evenements/2026/04/10/belle-victoire-contre-velles-du-10-avril-2026-2440431
END:VEVENT
END:VCALENDAR
