BEGIN:VCALENDAR
VERSION:2.0
PRODID:-//hacksw/handcal//NONSGML v1.0//EN
BEGIN:VEVENT
SUMMARY:Defaite contre St Vaury du 15 avril 2026
UID:0d5333e8-bb24-4cfa-aac6-4526c42c579f
DTSTART:20260415T183000Z
DTEND:20260415T203000Z
LOCATION:Localisation   
CATEGORIES:Sportif
STATUS:
URL;VALUE=URI:https://shb.sportsregions.fr/evenements/2026/04/15/defaite-contre-st-vaury-du-15-avril-2026-2441908
END:VEVENT
END:VCALENDAR
